BEGIN:VCALENDAR
VERSION:2.0
PRODID:-//Debt Today Free Tomorrow - ECPv6.15.17//NONSGML v1.0//EN
CALSCALE:GREGORIAN
METHOD:PUBLISH
X-ORIGINAL-URL:https://debt2day3tomorrow.com
X-WR-CALDESC:Events for Debt Today Free Tomorrow
REFRESH-INTERVAL;VALUE=DURATION:PT1H
X-Robots-Tag:noindex
X-PUBLISHED-TTL:PT1H
BEGIN:VTIMEZONE
TZID:Europe/London
BEGIN:DAYLIGHT
TZOFFSETFROM:+0000
TZOFFSETTO:+0100
TZNAME:BST
DTSTART:20210328T010000
END:DAYLIGHT
BEGIN:STANDARD
TZOFFSETFROM:+0100
TZOFFSETTO:+0000
TZNAME:GMT
DTSTART:20211031T010000
END:STANDARD
BEGIN:DAYLIGHT
TZOFFSETFROM:+0000
TZOFFSETTO:+0100
TZNAME:BST
DTSTART:20220327T010000
END:DAYLIGHT
BEGIN:STANDARD
TZOFFSETFROM:+0100
TZOFFSETTO:+0000
TZNAME:GMT
DTSTART:20221030T010000
END:STANDARD
BEGIN:DAYLIGHT
TZOFFSETFROM:+0000
TZOFFSETTO:+0100
TZNAME:BST
DTSTART:20230326T010000
END:DAYLIGHT
BEGIN:STANDARD
TZOFFSETFROM:+0100
TZOFFSETTO:+0000
TZNAME:GMT
DTSTART:20231029T010000
END:STANDARD
END:VTIMEZONE
BEGIN:VEVENT
DTSTART;TZID=Europe/London:20221203T160000
DTEND;TZID=Europe/London:20221203T170000
DTSTAMP:20260423T031028
CREATED:20221123T211710Z
LAST-MODIFIED:20221123T213003Z
UID:10000018-1670083200-1670086800@debt2day3tomorrow.com
SUMMARY:Debt today free Tomorrow free Financial Stabilty workshop
DESCRIPTION:When you have confidence in your financial health\, your stress levels will be lower which can help you to sleep better\, and have more energy\, and make healthier life choices. \nAre you financially stable? \nLearn what it means to be financially stable. \nCome along to this free session \n 
URL:https://debt2day3tomorrow.com/event/debt-today-free-tomorrow-free-workshop/
LOCATION:Soca Cheta Community Hub\, 44b Portland Road\, SE25 4PQ\, United Kingdom
CATEGORIES:Debt,Finance
ATTACH;FMTTYPE=image/png:https://debt2day3tomorrow.com/wp-content/uploads/DECEMBER-3RD-FLYER-2022-MASTER.png
ORGANIZER;CN="Debt today free tomorrow":MAILTO:debt2day3tomorrow@gmail.com
END:VEVENT
END:VCALENDAR