BEGIN:VCALENDAR
VERSION:2.0
PRODID:-//Debt Today Free Tomorrow - ECPv6.15.17//NONSGML v1.0//EN
CALSCALE:GREGORIAN
METHOD:PUBLISH
X-ORIGINAL-URL:https://debt2day3tomorrow.com
X-WR-CALDESC:Events for Debt Today Free Tomorrow
REFRESH-INTERVAL;VALUE=DURATION:PT1H
X-Robots-Tag:noindex
X-PUBLISHED-TTL:PT1H
BEGIN:VTIMEZONE
TZID:Europe/London
BEGIN:DAYLIGHT
TZOFFSETFROM:+0000
TZOFFSETTO:+0100
TZNAME:BST
DTSTART:20230326T010000
END:DAYLIGHT
BEGIN:STANDARD
TZOFFSETFROM:+0100
TZOFFSETTO:+0000
TZNAME:GMT
DTSTART:20231029T010000
END:STANDARD
BEGIN:DAYLIGHT
TZOFFSETFROM:+0000
TZOFFSETTO:+0100
TZNAME:BST
DTSTART:20240331T010000
END:DAYLIGHT
BEGIN:STANDARD
TZOFFSETFROM:+0100
TZOFFSETTO:+0000
TZNAME:GMT
DTSTART:20241027T010000
END:STANDARD
BEGIN:DAYLIGHT
TZOFFSETFROM:+0000
TZOFFSETTO:+0100
TZNAME:BST
DTSTART:20250330T010000
END:DAYLIGHT
BEGIN:STANDARD
TZOFFSETFROM:+0100
TZOFFSETTO:+0000
TZNAME:GMT
DTSTART:20251026T010000
END:STANDARD
BEGIN:DAYLIGHT
TZOFFSETFROM:+0000
TZOFFSETTO:+0100
TZNAME:BST
DTSTART:20260329T010000
END:DAYLIGHT
BEGIN:STANDARD
TZOFFSETFROM:+0100
TZOFFSETTO:+0000
TZNAME:GMT
DTSTART:20261025T010000
END:STANDARD
BEGIN:DAYLIGHT
TZOFFSETFROM:+0000
TZOFFSETTO:+0100
TZNAME:BST
DTSTART:20270328T010000
END:DAYLIGHT
BEGIN:STANDARD
TZOFFSETFROM:+0100
TZOFFSETTO:+0000
TZNAME:GMT
DTSTART:20271031T010000
END:STANDARD
END:VTIMEZONE
BEGIN:VEVENT
DTSTART;TZID=Europe/London:20240525T153000
DTEND;TZID=Europe/London:20240525T170000
DTSTAMP:20260423T114316
CREATED:20240506T103252Z
LAST-MODIFIED:20240506T103252Z
UID:10000029-1716651000-1716656400@debt2day3tomorrow.com
SUMMARY:As requested all Free Session Homelessness Legislation and your Housing Options
DESCRIPTION:Hi all\, \nI hope you are all enjoying the bank holiday weekend\,\, this session is due to several requests to cover this subject\, I would be grateful if you could you please let me know if you will be attending as the numbers for this session will be limited. \nMany thanks all
URL:https://debt2day3tomorrow.com/event/as-requested-all-free-session-homelessness-legislation-and-your-housing-options/
LOCATION:Soca Cheta Community Hub\, 44b Portland Road\, SE25 4PQ\, United Kingdom
CATEGORIES:Finance,Housing
ATTACH;FMTTYPE=application/pdf:https://debt2day3tomorrow.com/wp-content/uploads/Flyer-25th-May-2024.pdf
END:VEVENT
BEGIN:VEVENT
DTSTART;TZID=Europe/London:20250726T153000
DTEND;TZID=Europe/London:20250726T180000
DTSTAMP:20260423T114316
CREATED:20250714T203546Z
LAST-MODIFIED:20250714T203636Z
UID:10000032-1753543800-1753552800@debt2day3tomorrow.com
SUMMARY:Planning for Retirement its never to early to begin planning
DESCRIPTION:HI ALL\, \nNext free session I have received several requests to repeat the Planning for Retirement Workshop\, please send an e-mail to request a space as numbers will be limited for this session. \nHope to see you there!
URL:https://debt2day3tomorrow.com/event/planning-for-retirement-its-never-to-early-to-begin-planning/
LOCATION:Soca Cheta Community Hub\, 44b Portland Road\, SE25 4PQ\, United Kingdom
CATEGORIES:Children,Debt,Finance,Housing
ATTACH;FMTTYPE=application/pdf:https://debt2day3tomorrow.com/wp-content/uploads/fLYER-26TH-JULY-2025-PLANNING-FOR-RETIREMENT.pdf
END:VEVENT
BEGIN:VEVENT
DTSTART;TZID=Europe/London:20250830T153000
DTEND;TZID=Europe/London:20250830T173000
DTSTAMP:20260423T114316
CREATED:20250803T155001Z
LAST-MODIFIED:20250803T155001Z
UID:10000033-1756567800-1756575000@debt2day3tomorrow.com
SUMMARY:PLANNING FOR RETIREMENT PART 2
DESCRIPTION:Hi all\, \nPart 2 of the Planning for retirement session preference will be given to those who attended the first session please e-mail debt2day3tomorrow@gmail.com asap to register your interest. \nSee you soon
URL:https://debt2day3tomorrow.com/event/planning-for-retirement-part-2/
LOCATION:Soca Cheta Community Hub\, 44b Portland Road\, SE25 4PQ\, United Kingdom
CATEGORIES:Children,Debt,Finance,Housing
ATTACH;FMTTYPE=application/pdf:https://debt2day3tomorrow.com/wp-content/uploads/PLANNING-FOR-RETIREMENT-PART-2-30TH-AUGUST-2025.pdf
END:VEVENT
BEGIN:VEVENT
DTSTART;TZID=Europe/London:20260110T163000
DTEND;TZID=Europe/London:20260110T183000
DTSTAMP:20260423T114316
CREATED:20251213T110156Z
LAST-MODIFIED:20251213T110156Z
UID:10000034-1768062600-1768069800@debt2day3tomorrow.com
SUMMARY:Start the New Year as We Mean to Go On! Kick off 2026 with practical steps to take control of your money
DESCRIPTION:What’s Happening? \n.\nJoin us for an empowering session where we’ll explore: \n\nFinances & How to Improve Them\nUnderstanding Debts: Priority vs. Non-Priority\nFree Debt Advice Services Available to You\n\n Why Attend? \n\nLearn how to manage debt with confidence\nDiscover free\, trusted advice services\nConnect with others starting their financial journey\nLeave with tools and tips to make 2026 a year of progress\n\nNumbers will be limited for this session please e mail Debt2day3tomorrow@gmail.com to request a space 
URL:https://debt2day3tomorrow.com/event/start-the-new-year-as-we-mean-to-go-on-kick-off-2026-with-practical-steps-to-take-control-of-your-money/
LOCATION:Soca Cheta Community Hub\, 44b Portland Road\, SE25 4PQ\, United Kingdom
CATEGORIES:Debt,Finance
ATTACH;FMTTYPE=image/jpeg:https://debt2day3tomorrow.com/wp-content/uploads/New-year-New-start-photo-3-1.jpg
ORGANIZER;CN="Debt today free tomorrow":MAILTO:debt2day3tomorrow@gmail.com
END:VEVENT
END:VCALENDAR