BEGIN:VCALENDAR
VERSION:2.0
PRODID:-//Debt Today Free Tomorrow - ECPv6.15.17//NONSGML v1.0//EN
CALSCALE:GREGORIAN
METHOD:PUBLISH
X-WR-CALNAME:Debt Today Free Tomorrow
X-ORIGINAL-URL:https://debt2day3tomorrow.com
X-WR-CALDESC:Events for Debt Today Free Tomorrow
REFRESH-INTERVAL;VALUE=DURATION:PT1H
X-Robots-Tag:noindex
X-PUBLISHED-TTL:PT1H
BEGIN:VTIMEZONE
TZID:Europe/London
BEGIN:DAYLIGHT
TZOFFSETFROM:+0000
TZOFFSETTO:+0100
TZNAME:BST
DTSTART:20200329T010000
END:DAYLIGHT
BEGIN:STANDARD
TZOFFSETFROM:+0100
TZOFFSETTO:+0000
TZNAME:GMT
DTSTART:20201025T010000
END:STANDARD
BEGIN:DAYLIGHT
TZOFFSETFROM:+0000
TZOFFSETTO:+0100
TZNAME:BST
DTSTART:20210328T010000
END:DAYLIGHT
BEGIN:STANDARD
TZOFFSETFROM:+0100
TZOFFSETTO:+0000
TZNAME:GMT
DTSTART:20211031T010000
END:STANDARD
BEGIN:DAYLIGHT
TZOFFSETFROM:+0000
TZOFFSETTO:+0100
TZNAME:BST
DTSTART:20220327T010000
END:DAYLIGHT
BEGIN:STANDARD
TZOFFSETFROM:+0100
TZOFFSETTO:+0000
TZNAME:GMT
DTSTART:20221030T010000
END:STANDARD
END:VTIMEZONE
BEGIN:VEVENT
DTSTART;TZID=Europe/London:20211217T180000
DTEND;TZID=Europe/London:20211217T190000
DTSTAMP:20260422T061902
CREATED:20211127T181853Z
LAST-MODIFIED:20211206T134611Z
UID:10000011-1639764000-1639767600@debt2day3tomorrow.com
SUMMARY:FREE PRE-HOLIDAY ZOOM EVENT  TIPS ON HOW TO MANAGE YOUR FINANCES/DEBT
DESCRIPTION:Debt today free tomorrow free event 17th Dec 2021 \nJanet Taylor McPherson is inviting you to a scheduled Zoom meeting. \nTopic: Debt today free tomorrow\nTime: Dec 17\, 2021 06:00 PM London \nJoin Zoom Meeting\nhttps://us02web.zoom.us/j/89015113990?pwd=bW5wQklzVmRhYTV0R1V1cUlieldvQT09 \nMeeting ID: 890 1511 3990\nPasscode: 161246
URL:https://debt2day3tomorrow.com/event/4407/
CATEGORIES:Children,Debt,Finance,Housing
END:VEVENT
END:VCALENDAR