BEGIN:VCALENDAR
VERSION:2.0
PRODID:-//Debt Today Free Tomorrow - ECPv6.15.17//NONSGML v1.0//EN
CALSCALE:GREGORIAN
METHOD:PUBLISH
X-ORIGINAL-URL:https://debt2day3tomorrow.com
X-WR-CALDESC:Events for Debt Today Free Tomorrow
REFRESH-INTERVAL;VALUE=DURATION:PT1H
X-Robots-Tag:noindex
X-PUBLISHED-TTL:PT1H
BEGIN:VTIMEZONE
TZID:Europe/London
BEGIN:DAYLIGHT
TZOFFSETFROM:+0000
TZOFFSETTO:+0100
TZNAME:BST
DTSTART:20250330T010000
END:DAYLIGHT
BEGIN:STANDARD
TZOFFSETFROM:+0100
TZOFFSETTO:+0000
TZNAME:GMT
DTSTART:20251026T010000
END:STANDARD
BEGIN:DAYLIGHT
TZOFFSETFROM:+0000
TZOFFSETTO:+0100
TZNAME:BST
DTSTART:20260329T010000
END:DAYLIGHT
BEGIN:STANDARD
TZOFFSETFROM:+0100
TZOFFSETTO:+0000
TZNAME:GMT
DTSTART:20261025T010000
END:STANDARD
BEGIN:DAYLIGHT
TZOFFSETFROM:+0000
TZOFFSETTO:+0100
TZNAME:BST
DTSTART:20270328T010000
END:DAYLIGHT
BEGIN:STANDARD
TZOFFSETFROM:+0100
TZOFFSETTO:+0000
TZNAME:GMT
DTSTART:20271031T010000
END:STANDARD
END:VTIMEZONE
BEGIN:VEVENT
DTSTART;TZID=Europe/London:20260110T163000
DTEND;TZID=Europe/London:20260110T183000
DTSTAMP:20260420T014155
CREATED:20251213T110156Z
LAST-MODIFIED:20251213T110156Z
UID:10000034-1768062600-1768069800@debt2day3tomorrow.com
SUMMARY:Start the New Year as We Mean to Go On! Kick off 2026 with practical steps to take control of your money
DESCRIPTION:What’s Happening? \n.\nJoin us for an empowering session where we’ll explore: \n\nFinances & How to Improve Them\nUnderstanding Debts: Priority vs. Non-Priority\nFree Debt Advice Services Available to You\n\n Why Attend? \n\nLearn how to manage debt with confidence\nDiscover free\, trusted advice services\nConnect with others starting their financial journey\nLeave with tools and tips to make 2026 a year of progress\n\nNumbers will be limited for this session please e mail Debt2day3tomorrow@gmail.com to request a space 
URL:https://debt2day3tomorrow.com/event/start-the-new-year-as-we-mean-to-go-on-kick-off-2026-with-practical-steps-to-take-control-of-your-money/
LOCATION:Soca Cheta Community Hub\, 44b Portland Road\, SE25 4PQ\, United Kingdom
CATEGORIES:Debt,Finance
ATTACH;FMTTYPE=image/jpeg:https://debt2day3tomorrow.com/wp-content/uploads/New-year-New-start-photo-3-1.jpg
ORGANIZER;CN="Debt today free tomorrow":MAILTO:debt2day3tomorrow@gmail.com
END:VEVENT
BEGIN:VEVENT
DTSTART;TZID=Europe/London:20260411T163000
DTEND;TZID=Europe/London:20260411T183000
DTSTAMP:20260420T014155
CREATED:20260319T114434Z
LAST-MODIFIED:20260320T082310Z
UID:10000035-1775925000-1775932200@debt2day3tomorrow.com
SUMMARY:🌟 Date Change: Debt Today Free Tomorrow – Open Day
DESCRIPTION:Please note the date of this event has changed to:\nDate: 11th April 2026\nTime: 4:30 p.m – 6:30 p.m\nJoin us for an Open Day where you can collect free information\, resources\, and guidance on the issues that matter most to local residents. \n\nWhat’s Available\n\nDebt support resources —\nHousing & Homelessness information — signposting\, rights\,\nFriendly\, judgement‑free conversations with people who understand the challenges you’re facing\n\n🤝 Why Attend\nThis Open Day is designed to be welcoming\, safe\, and empowering. Whether you need information for yourself or someone you’re supporting\, you’ll leave with practical next steps\, local contacts\, and free resources to help you move forward.
URL:https://debt2day3tomorrow.com/event/%f0%9f%8c%9f-debt-today-free-tomorrow-open-day/
LOCATION:Soca Cheta Community Hub\, 44b Portland Road\, SE25 4PQ\, United Kingdom
END:VEVENT
END:VCALENDAR