BEGIN:VCALENDAR
VERSION:2.0
PRODID:-//Debt Today Free Tomorrow - ECPv6.15.17//NONSGML v1.0//EN
CALSCALE:GREGORIAN
METHOD:PUBLISH
X-WR-CALNAME:Debt Today Free Tomorrow
X-ORIGINAL-URL:https://debt2day3tomorrow.com
X-WR-CALDESC:Events for Debt Today Free Tomorrow
REFRESH-INTERVAL;VALUE=DURATION:PT1H
X-Robots-Tag:noindex
X-PUBLISHED-TTL:PT1H
BEGIN:VTIMEZONE
TZID:Europe/London
BEGIN:DAYLIGHT
TZOFFSETFROM:+0000
TZOFFSETTO:+0100
TZNAME:BST
DTSTART:20200329T010000
END:DAYLIGHT
BEGIN:STANDARD
TZOFFSETFROM:+0100
TZOFFSETTO:+0000
TZNAME:GMT
DTSTART:20201025T010000
END:STANDARD
BEGIN:DAYLIGHT
TZOFFSETFROM:+0000
TZOFFSETTO:+0100
TZNAME:BST
DTSTART:20210328T010000
END:DAYLIGHT
BEGIN:STANDARD
TZOFFSETFROM:+0100
TZOFFSETTO:+0000
TZNAME:GMT
DTSTART:20211031T010000
END:STANDARD
BEGIN:DAYLIGHT
TZOFFSETFROM:+0000
TZOFFSETTO:+0100
TZNAME:BST
DTSTART:20220327T010000
END:DAYLIGHT
BEGIN:STANDARD
TZOFFSETFROM:+0100
TZOFFSETTO:+0000
TZNAME:GMT
DTSTART:20221030T010000
END:STANDARD
BEGIN:DAYLIGHT
TZOFFSETFROM:+0000
TZOFFSETTO:+0100
TZNAME:BST
DTSTART:20230326T010000
END:DAYLIGHT
BEGIN:STANDARD
TZOFFSETFROM:+0100
TZOFFSETTO:+0000
TZNAME:GMT
DTSTART:20231029T010000
END:STANDARD
END:VTIMEZONE
BEGIN:VEVENT
DTSTART;TZID=Europe/London:20220716T133000
DTEND;TZID=Europe/London:20220716T143000
DTSTAMP:20260420T033205
CREATED:20220709T202133Z
LAST-MODIFIED:20220709T202854Z
UID:10000013-1657978200-1657981800@debt2day3tomorrow.com
SUMMARY:Housing Homelessness and your Rights
DESCRIPTION:Free talk giving an overview of housing homelessness and your rights \nDo you want to know what are the duties of a local authority if you are homeless or at risk of being made  homeless? \nCome along to this free session.
URL:https://debt2day3tomorrow.com/event/housing-homelessness-and-your-rights/
LOCATION:Soca Cheta Community Hub\, 44b Portland Road\, SE25 4PQ\, United Kingdom
CATEGORIES:Housing
END:VEVENT
BEGIN:VEVENT
DTSTART;TZID=Europe/London:20220304T180000
DTEND;TZID=Europe/London:20220304T190000
DTSTAMP:20260420T033205
CREATED:20220213T162340Z
LAST-MODIFIED:20220213T162340Z
UID:10000012-1646416800-1646420400@debt2day3tomorrow.com
SUMMARY:2022 SAVINGS CHALLENGE
DESCRIPTION:Hopefully you are all working your way through the challenge. \nDebt today free tomorrow is inviting you to a scheduled Zoom meeting.\nTime: Mar 4\, 2022 06:00 - 7.00 PM London \nJoin Zoom Meeting\nhttps://us02web.zoom.us/j/89841965702?pwd=QnNBZU9CUFBiME11eUtDTm9TSGUyQT09 \nMeeting ID: 898 4196 5702\nPasscode: 633677\nOne tap mobile\n+16465588656\,\,89841965702#\,\,\,\,*633677# US (New York)\n+16699009128\,\,89841965702#\,\,\,\,*633677# US (San Jose) \nDial by your location\n        +1 646 558 8656 US (New York)\n        +1 669 900 9128 US (San Jose)\n        +1 253 215 8782 US (Tacoma)\n        +1 301 715 8592 US (Washington DC)\n        +1 312 626 6799 US (Chicago)\n        +1 346 248 7799 US (Houston)\nMeeting ID: 898 4196 5702\nPasscode: 633677\nFind your local number: https://us02web.zoom.us/u/kdnmsabHAY
URL:https://debt2day3tomorrow.com/event/2022-savings-challenge/
CATEGORIES:Debt,Finance
END:VEVENT
BEGIN:VEVENT
DTSTART;TZID=Europe/London:20211217T180000
DTEND;TZID=Europe/London:20211217T190000
DTSTAMP:20260420T033205
CREATED:20211127T181853Z
LAST-MODIFIED:20211206T134611Z
UID:10000011-1639764000-1639767600@debt2day3tomorrow.com
SUMMARY:FREE PRE-HOLIDAY ZOOM EVENT  TIPS ON HOW TO MANAGE YOUR FINANCES/DEBT
DESCRIPTION:Debt today free tomorrow free event 17th Dec 2021 \nJanet Taylor McPherson is inviting you to a scheduled Zoom meeting. \nTopic: Debt today free tomorrow\nTime: Dec 17\, 2021 06:00 PM London \nJoin Zoom Meeting\nhttps://us02web.zoom.us/j/89015113990?pwd=bW5wQklzVmRhYTV0R1V1cUlieldvQT09 \nMeeting ID: 890 1511 3990\nPasscode: 161246
URL:https://debt2day3tomorrow.com/event/4407/
CATEGORIES:Children,Debt,Finance,Housing
END:VEVENT
BEGIN:VEVENT
DTSTART;TZID=Europe/London:20211023T150000
DTEND;TZID=Europe/London:20211023T180000
DTSTAMP:20260420T033205
CREATED:20211008T192236Z
LAST-MODIFIED:20211008T192236Z
UID:10000010-1635001200-1635012000@debt2day3tomorrow.com
SUMMARY:BLACK HISTORY MONTH EVENT
DESCRIPTION:
URL:https://debt2day3tomorrow.com/event/black-history-month-event/
LOCATION:ADDISCOMBE BOYS CLUB\, STROUD GREEN WAY\, CROYDON\, CR0 7BE
END:VEVENT
BEGIN:VEVENT
DTSTART;TZID=Europe/London:20210806T180000
DTEND;TZID=Europe/London:20210806T190000
DTSTAMP:20260420T033205
CREATED:20210731T193750Z
LAST-MODIFIED:20210731T193750Z
UID:10000009-1628272800-1628276400@debt2day3tomorrow.com
SUMMARY:Financial Capability Part 2 Managing Your Debts
DESCRIPTION:Janet Taylor McPherson is inviting you to a scheduled Zoom meeting. \nTopic: Financial capability managing your debt\nTime: Aug 6\, 2021 06:00 PM London \nJoin Zoom Meeting\nhttps://us02web.zoom.us/j/83195293536?pwd=dUFVSENRenlidUZYNk4xWG1ITFNBZz09 \nMeeting ID: 831 9529 3536\nPasscode: 812993
URL:https://debt2day3tomorrow.com/event/financial-capability-part-2-managing-your-debts/
CATEGORIES:Debt
END:VEVENT
BEGIN:VEVENT
DTSTART;TZID=Europe/London:20210702T180000
DTEND;TZID=Europe/London:20210702T190000
DTSTAMP:20260420T033205
CREATED:20210702T140447Z
LAST-MODIFIED:20210702T140447Z
UID:10000001-1625248800-1625252400@debt2day3tomorrow.com
SUMMARY:Financial Capability and why it is so important to budget
DESCRIPTION:
URL:https://debt2day3tomorrow.com/event/financial-capability-and-why-it-is-so-important-to-budget/
END:VEVENT
BEGIN:VEVENT
DTSTART;TZID=Europe/London:20210607T105000
DTEND;TZID=Europe/London:20210607T113000
DTSTAMP:20260420T033205
CREATED:20210510T183207Z
LAST-MODIFIED:20210510T183404Z
UID:10000007-1623063000-1623065400@debt2day3tomorrow.com
SUMMARY:CHiLDz taLK!
DESCRIPTION:CHiLDz taLK! Zoom session - Promoting the importance of children's early communication. \nPlease join us for free with the following access information:\nMeeting ID: 360 955 2451\nPasscode: 3CgcC5
URL:https://debt2day3tomorrow.com/event/childz-talk/2021-06-07/
CATEGORIES:Children
END:VEVENT
BEGIN:VEVENT
DTSTART;TZID=Europe/London:20210604T180000
DTEND;TZID=Europe/London:20210604T190000
DTSTAMP:20260420T033205
CREATED:20210517T085323Z
LAST-MODIFIED:20210517T182259Z
UID:10000008-1622829600-1622833200@debt2day3tomorrow.com
SUMMARY:Housing and Homelessness - Your rights
DESCRIPTION:Please join us for free on Zoom with the following access information:\nWeblink: us02web.zoom.us/j/88964011176?pwd=M0xjaVJlUmRqeFh3QUxWY3hIVXNEQT09\nMeeting ID: 889 6401 1176\nPasscode: 323837
URL:https://debt2day3tomorrow.com/event/housing-and-homelessness-your-rights/
CATEGORIES:Housing
END:VEVENT
BEGIN:VEVENT
DTSTART;TZID=Europe/London:20210524T105000
DTEND;TZID=Europe/London:20210524T113000
DTSTAMP:20260420T033205
CREATED:20210510T183207Z
LAST-MODIFIED:20210510T183404Z
UID:10000006-1621853400-1621855800@debt2day3tomorrow.com
SUMMARY:CHiLDz taLK!
DESCRIPTION:CHiLDz taLK! Zoom session - Promoting the importance of children's early communication. \nPlease join us for free with the following access information:\nMeeting ID: 360 955 2451\nPasscode: 3CgcC5
URL:https://debt2day3tomorrow.com/event/childz-talk/2021-05-24/
CATEGORIES:Children
END:VEVENT
BEGIN:VEVENT
DTSTART;TZID=Europe/London:20210517T105000
DTEND;TZID=Europe/London:20210517T113000
DTSTAMP:20260420T033205
CREATED:20210510T183207Z
LAST-MODIFIED:20210510T183404Z
UID:10000005-1621248600-1621251000@debt2day3tomorrow.com
SUMMARY:CHiLDz taLK!
DESCRIPTION:CHiLDz taLK! Zoom session - Promoting the importance of children's early communication. \nPlease join us for free with the following access information:\nMeeting ID: 360 955 2451\nPasscode: 3CgcC5
URL:https://debt2day3tomorrow.com/event/childz-talk/2021-05-17/
CATEGORIES:Children
END:VEVENT
BEGIN:VEVENT
DTSTART;TZID=Europe/London:20210514T180000
DTEND;TZID=Europe/London:20210514T190000
DTSTAMP:20260420T033205
CREATED:20210510T091334Z
LAST-MODIFIED:20210510T185007Z
UID:10000003-1621015200-1621018800@debt2day3tomorrow.com
SUMMARY:Debt Respite Scheme
DESCRIPTION:Come hear about the new Debt Respite Scheme - useful information if you are struggling with your finances. \nThis meeting will be hosted via Zoom\, please join us for free with the following access information:\nMeeting ID: 876 8312 9845\nPasscode: 943077
URL:https://debt2day3tomorrow.com/event/debt-respite-scheme/
CATEGORIES:Debt
ATTACH;FMTTYPE=image/jpeg:https://debt2day3tomorrow.com/wp-content/uploads/dtft-zoom-session.jpg
END:VEVENT
BEGIN:VEVENT
DTSTART;TZID=Europe/London:20210510T105000
DTEND;TZID=Europe/London:20210510T113000
DTSTAMP:20260420T033205
CREATED:20210510T183207Z
LAST-MODIFIED:20210510T183404Z
UID:10000004-1620643800-1620646200@debt2day3tomorrow.com
SUMMARY:CHiLDz taLK!
DESCRIPTION:CHiLDz taLK! Zoom session - Promoting the importance of children's early communication. \nPlease join us for free with the following access information:\nMeeting ID: 360 955 2451\nPasscode: 3CgcC5
URL:https://debt2day3tomorrow.com/event/childz-talk/2021-05-10/
CATEGORIES:Children
END:VEVENT
END:VCALENDAR