BEGIN:VCALENDAR
VERSION:2.0
PRODID:-//Debt Today Free Tomorrow - ECPv6.15.17//NONSGML v1.0//EN
CALSCALE:GREGORIAN
METHOD:PUBLISH
X-WR-CALNAME:Debt Today Free Tomorrow
X-ORIGINAL-URL:https://debt2day3tomorrow.com
X-WR-CALDESC:Events for Debt Today Free Tomorrow
REFRESH-INTERVAL;VALUE=DURATION:PT1H
X-Robots-Tag:noindex
X-PUBLISHED-TTL:PT1H
BEGIN:VTIMEZONE
TZID:Europe/London
BEGIN:DAYLIGHT
TZOFFSETFROM:+0000
TZOFFSETTO:+0100
TZNAME:BST
DTSTART:20220327T010000
END:DAYLIGHT
BEGIN:STANDARD
TZOFFSETFROM:+0100
TZOFFSETTO:+0000
TZNAME:GMT
DTSTART:20221030T010000
END:STANDARD
BEGIN:DAYLIGHT
TZOFFSETFROM:+0000
TZOFFSETTO:+0100
TZNAME:BST
DTSTART:20230326T010000
END:DAYLIGHT
BEGIN:STANDARD
TZOFFSETFROM:+0100
TZOFFSETTO:+0000
TZNAME:GMT
DTSTART:20231029T010000
END:STANDARD
BEGIN:DAYLIGHT
TZOFFSETFROM:+0000
TZOFFSETTO:+0100
TZNAME:BST
DTSTART:20240331T010000
END:DAYLIGHT
BEGIN:STANDARD
TZOFFSETFROM:+0100
TZOFFSETTO:+0000
TZNAME:GMT
DTSTART:20241027T010000
END:STANDARD
END:VTIMEZONE
BEGIN:VEVENT
DTSTART;TZID=Europe/London:20230401T160000
DTEND;TZID=Europe/London:20230401T170000
DTSTAMP:20260422T012424
CREATED:20230318T222611Z
LAST-MODIFIED:20230318T222611Z
UID:10000021-1680364800-1680368400@debt2day3tomorrow.com
SUMMARY:FREE SESSSION HOUSING HOMELESSNESS AND YOUR RIGHTS
DESCRIPTION:
URL:https://debt2day3tomorrow.com/event/free-sesssion-housing-homelessness-and-your-rights/
LOCATION:Soca Cheta Community Hub\, 44b Portland Road\, SE25 4PQ\, United Kingdom
ORGANIZER;CN="Debt today free tomorrow":MAILTO:debt2day3tomorrow@gmail.com
END:VEVENT
END:VCALENDAR