BEGIN:VCALENDAR
VERSION:2.0
PRODID:-//Debt Today Free Tomorrow - ECPv6.15.17//NONSGML v1.0//EN
CALSCALE:GREGORIAN
METHOD:PUBLISH
X-WR-CALNAME:Debt Today Free Tomorrow
X-ORIGINAL-URL:https://debt2day3tomorrow.com
X-WR-CALDESC:Events for Debt Today Free Tomorrow
REFRESH-INTERVAL;VALUE=DURATION:PT1H
X-Robots-Tag:noindex
X-PUBLISHED-TTL:PT1H
BEGIN:VTIMEZONE
TZID:Europe/London
BEGIN:DAYLIGHT
TZOFFSETFROM:+0000
TZOFFSETTO:+0100
TZNAME:BST
DTSTART:20240331T010000
END:DAYLIGHT
BEGIN:STANDARD
TZOFFSETFROM:+0100
TZOFFSETTO:+0000
TZNAME:GMT
DTSTART:20241027T010000
END:STANDARD
BEGIN:DAYLIGHT
TZOFFSETFROM:+0000
TZOFFSETTO:+0100
TZNAME:BST
DTSTART:20250330T010000
END:DAYLIGHT
BEGIN:STANDARD
TZOFFSETFROM:+0100
TZOFFSETTO:+0000
TZNAME:GMT
DTSTART:20251026T010000
END:STANDARD
BEGIN:DAYLIGHT
TZOFFSETFROM:+0000
TZOFFSETTO:+0100
TZNAME:BST
DTSTART:20260329T010000
END:DAYLIGHT
BEGIN:STANDARD
TZOFFSETFROM:+0100
TZOFFSETTO:+0000
TZNAME:GMT
DTSTART:20261025T010000
END:STANDARD
END:VTIMEZONE
BEGIN:VEVENT
DTSTART;TZID=Europe/London:20250629T150000
DTEND;TZID=Europe/London:20250629T190000
DTSTAMP:20260418T151702
CREATED:20250617T075130Z
LAST-MODIFIED:20250617T075130Z
UID:10000031-1751209200-1751223600@debt2day3tomorrow.com
SUMMARY:Debt Today Free Tomorrow Open Day
DESCRIPTION:Hi all\, \nJoin us for a free community event where you can discover the wealth of resources available to support you in navigating housing\, debt\, and financial stability. \n Date: June 29\, 2025 ⏰ Time: 3:00 PM – 7:00 PM  Location: Soca Cheta Community Hub \nWhether you’re seeking guidance\, practical tools\, or simply want to learn more about the support networks in your area\, this event is designed to empower you with knowledge and connections. \nCome along and take a step towards financial freedom!
URL:https://debt2day3tomorrow.com/event/debt-today-free-tomorrow-open-day/
LOCATION:Soca Cheta Community Hub\, 44b Portland Road\, SE25 4PQ\, United Kingdom
END:VEVENT
END:VCALENDAR