BEGIN:VCALENDAR
VERSION:2.0
PRODID:-//Debt Today Free Tomorrow - ECPv6.15.17//NONSGML v1.0//EN
CALSCALE:GREGORIAN
METHOD:PUBLISH
X-ORIGINAL-URL:https://debt2day3tomorrow.com
X-WR-CALDESC:Events for Debt Today Free Tomorrow
REFRESH-INTERVAL;VALUE=DURATION:PT1H
X-Robots-Tag:noindex
X-PUBLISHED-TTL:PT1H
BEGIN:VTIMEZONE
TZID:Europe/London
BEGIN:DAYLIGHT
TZOFFSETFROM:+0000
TZOFFSETTO:+0100
TZNAME:BST
DTSTART:20220327T010000
END:DAYLIGHT
BEGIN:STANDARD
TZOFFSETFROM:+0100
TZOFFSETTO:+0000
TZNAME:GMT
DTSTART:20221030T010000
END:STANDARD
BEGIN:DAYLIGHT
TZOFFSETFROM:+0000
TZOFFSETTO:+0100
TZNAME:BST
DTSTART:20230326T010000
END:DAYLIGHT
BEGIN:STANDARD
TZOFFSETFROM:+0100
TZOFFSETTO:+0000
TZNAME:GMT
DTSTART:20231029T010000
END:STANDARD
BEGIN:DAYLIGHT
TZOFFSETFROM:+0000
TZOFFSETTO:+0100
TZNAME:BST
DTSTART:20240331T010000
END:DAYLIGHT
BEGIN:STANDARD
TZOFFSETFROM:+0100
TZOFFSETTO:+0000
TZNAME:GMT
DTSTART:20241027T010000
END:STANDARD
END:VTIMEZONE
BEGIN:VEVENT
DTSTART;TZID=Europe/London:20230114T160000
DTEND;TZID=Europe/London:20230114T170000
DTSTAMP:20260421T101711
CREATED:20221227T193104Z
LAST-MODIFIED:20221227T193104Z
UID:10000019-1673712000-1673715600@debt2day3tomorrow.com
SUMMARY:Debt today free tomorrow Free workshop
DESCRIPTION:Hi all\, \nHope you are enjoying the Festive season a quick reminder \nPart 2 of the Financial Stability session will be taking place in the new year\, \nWishing you all much happiness for 2023! and hope to see you there. \n  \n 
URL:https://debt2day3tomorrow.com/event/debt-today-free-tomorrow-free-workshop-2/
LOCATION:Soca Cheta Community Hub\, 44b Portland Road\, SE25 4PQ\, United Kingdom
CATEGORIES:Debt,Finance
END:VEVENT
END:VCALENDAR